BEGIN:VCALENDAR
VERSION:2.0
PRODID:-//Excelsior Primary School - ECPv6.15.13//NONSGML v1.0//EN
CALSCALE:GREGORIAN
METHOD:PUBLISH
X-ORIGINAL-URL:https://excelsiorps.wa.edu.au
X-WR-CALDESC:Events for Excelsior Primary School
REFRESH-INTERVAL;VALUE=DURATION:PT1H
X-Robots-Tag:noindex
X-PUBLISHED-TTL:PT1H
BEGIN:VTIMEZONE
TZID:Australia/Perth
BEGIN:STANDARD
TZOFFSETFROM:+0800
TZOFFSETTO:+0800
TZNAME:AWST
DTSTART:20250101T000000
END:STANDARD
END:VTIMEZONE
BEGIN:VEVENT
DTSTART;TZID=Australia/Perth:20260323T084000
DTEND;TZID=Australia/Perth:20260327T145000
DTSTAMP:20260420T155335
CREATED:20260325T003529Z
LAST-MODIFIED:20260325T003529Z
UID:3483-1774255200-1774623000@excelsiorps.wa.edu.au
SUMMARY:Year 6 Camp Woodman Point
DESCRIPTION:
URL:https://excelsiorps.wa.edu.au/calendar/year-6-camp-woodman-point/
CATEGORIES:Year 6 Events
END:VEVENT
BEGIN:VEVENT
DTSTART;TZID=Australia/Perth:20260325T080000
DTEND;TZID=Australia/Perth:20260325T170000
DTSTAMP:20260420T155335
CREATED:20260325T001113Z
LAST-MODIFIED:20260325T001113Z
UID:3472-1774425600-1774458000@excelsiorps.wa.edu.au
SUMMARY:Easter Raffle donations - The P&C need your help
DESCRIPTION:The P&C needs our schools communities help. They are seeking donations of Easter goods to include in our raffle. \nPlease bring donations to the office by Monday 30th\, March 2026.  – THANK YOU!
URL:https://excelsiorps.wa.edu.au/calendar/easter-raffle-donations-the-pc-need-your-help/
CATEGORIES:P&C Event
ATTACH;FMTTYPE=image/jpeg:https://excelsiorps.wa.edu.au/wp-content/uploads/2026/03/Easter-Raffle-donations.jpg
END:VEVENT
BEGIN:VEVENT
DTSTART;TZID=Australia/Perth:20260325T080000
DTEND;TZID=Australia/Perth:20260325T170000
DTSTAMP:20260420T155335
CREATED:20260325T001633Z
LAST-MODIFIED:20260325T001633Z
UID:3475-1774425600-1774458000@excelsiorps.wa.edu.au
SUMMARY:P&C Easter Colouring Competition - Hoppy Easter!
DESCRIPTION:Sponsored by Haiven Property\nFor more details\, to download a colouring sheet for those missing theirs and all the T&C’s\, please visit https://excelsiorpspc.org.au/easter-colouring-contest/ \nIn addition to our usual Easter raffle this year\, we thought it would be fun for all students at Excelsior Primary School to enter a colouring contest to win some incredible prizes\, thanks to our partnership with Haiven Property! \nThere are two age categories: Kindy to Year 2 & Year 3 to Year 6. \nStudents can drop off their coloured entries at the office by close of school on Tuesday 31st of March with the winners notified on Thursday 2nd April. \nYour student will be coming home with x1 printed copy but for any re-dos or lost sheets\, right click the image to the left to download a new copy. \nGood luck everyone!
URL:https://excelsiorps.wa.edu.au/calendar/pc-easter-colouring-competition-hoppy-easter/
CATEGORIES:P&C Event
ATTACH;FMTTYPE=image/jpeg:https://excelsiorps.wa.edu.au/wp-content/uploads/2026/03/Colouring-Competition.jpg
END:VEVENT
BEGIN:VEVENT
DTSTART;TZID=Australia/Perth:20260325T082000
DTEND;TZID=Australia/Perth:20260402T150000
DTSTAMP:20260420T155335
CREATED:20260324T233923Z
LAST-MODIFIED:20260325T000007Z
UID:3469-1774426800-1775142000@excelsiorps.wa.edu.au
SUMMARY:P&C Easter Raffle tickets for sale
DESCRIPTION:Raffle tickets will be on sale in the A block undercover area before school 8:20am – 8:40am and after school 2:40pm – 3:00pm.
URL:https://excelsiorps.wa.edu.au/calendar/pc-easter-raffle-tickets-for-sale/
CATEGORIES:P&C Event
ATTACH;FMTTYPE=image/jpeg:https://excelsiorps.wa.edu.au/wp-content/uploads/2026/03/Easter-PC-Raffle.jpg
END:VEVENT
BEGIN:VEVENT
DTSTART;TZID=Australia/Perth:20260326T084000
DTEND;TZID=Australia/Perth:20260326T145000
DTSTAMP:20260420T155335
CREATED:20260325T003220Z
LAST-MODIFIED:20260325T003220Z
UID:3478-1774514400-1774536600@excelsiorps.wa.edu.au
SUMMARY:Eagles Footy Clinic
DESCRIPTION:
URL:https://excelsiorps.wa.edu.au/calendar/eagles-footy-clinic/
CATEGORIES:School Events
ATTACH;FMTTYPE=image/png:https://excelsiorps.wa.edu.au/wp-content/uploads/2026/03/Eagles-1.png
END:VEVENT
BEGIN:VEVENT
DTSTART;TZID=Australia/Perth:20260401T130000
DTEND;TZID=Australia/Perth:20260401T144000
DTSTAMP:20260420T155335
CREATED:20260316T232429Z
LAST-MODIFIED:20260316T232454Z
UID:3465-1775048400-1775054400@excelsiorps.wa.edu.au
SUMMARY:Harmony Day Picnic Lunch
DESCRIPTION:Staff and students at Excelsior Primary School invite you to our \nHarmony Day Picnic Lunch \nTime – 1:00pm – 1:40pm \nPlease bring a lunch to share with your child/ren (picnic style) at a location chosen by you within the school grounds. Bring picnic blankets and chairs\, get together with other families and celebrate the diverse culture we have at EPS. You may wear orange or traditional dress. \nFollowing lunch\, join us in the classroom between 1:40-2:40pm to participate in a Harmony Day activity with your child.
URL:https://excelsiorps.wa.edu.au/calendar/harmony-day-picnic-lunch/
CATEGORIES:School Events
ATTACH;FMTTYPE=image/png:https://excelsiorps.wa.edu.au/wp-content/uploads/2026/03/Harmony-Day.png
END:VEVENT
BEGIN:VEVENT
DTSTART;VALUE=DATE:20260402
DTEND;VALUE=DATE:20260403
DTSTAMP:20260420T155335
CREATED:20260325T003801Z
LAST-MODIFIED:20260325T003801Z
UID:3485-1775088000-1775174399@excelsiorps.wa.edu.au
SUMMARY:Last day of Term 1 for students & staff
DESCRIPTION:
URL:https://excelsiorps.wa.edu.au/calendar/last-day-of-term-1-for-students-staff/
CATEGORIES:School Events
END:VEVENT
BEGIN:VEVENT
DTSTART;VALUE=DATE:20260403
DTEND;VALUE=DATE:20260404
DTSTAMP:20260420T155335
CREATED:20260325T003903Z
LAST-MODIFIED:20260325T003903Z
UID:3487-1775174400-1775260799@excelsiorps.wa.edu.au
SUMMARY:Good Friday Public Holiday
DESCRIPTION:
URL:https://excelsiorps.wa.edu.au/calendar/good-friday-public-holiday/
CATEGORIES:Public Holidays
END:VEVENT
BEGIN:VEVENT
DTSTART;TZID=Australia/Perth:20260403T080000
DTEND;TZID=Australia/Perth:20260419T170000
DTSTAMP:20260420T155335
CREATED:20260325T004006Z
LAST-MODIFIED:20260325T004006Z
UID:3489-1775203200-1776618000@excelsiorps.wa.edu.au
SUMMARY:Term 1 School Holidays
DESCRIPTION:
URL:https://excelsiorps.wa.edu.au/calendar/term-1-school-holidays-2/
CATEGORIES:School Holidays
END:VEVENT
BEGIN:VEVENT
DTSTART;VALUE=DATE:20260420
DTEND;VALUE=DATE:20260421
DTSTAMP:20260420T155335
CREATED:20260325T004109Z
LAST-MODIFIED:20260325T004109Z
UID:3491-1776643200-1776729599@excelsiorps.wa.edu.au
SUMMARY:Term 2 starts for students and staff
DESCRIPTION:
URL:https://excelsiorps.wa.edu.au/calendar/term-2-starts-for-students-and-staff/
CATEGORIES:Term Dates
END:VEVENT
BEGIN:VEVENT
DTSTART;TZID=Australia/Perth:20260424T090000
DTEND;TZID=Australia/Perth:20260424T100000
DTSTAMP:20260420T155335
CREATED:20260420T065645Z
LAST-MODIFIED:20260420T065645Z
UID:3500-1777021200-1777024800@excelsiorps.wa.edu.au
SUMMARY:ANZAC Ceremony 9am start in UCA
DESCRIPTION:
URL:https://excelsiorps.wa.edu.au/calendar/anzac-ceremony-9am-start-in-uca/
CATEGORIES:School Events
ATTACH;FMTTYPE=image/jpeg:https://excelsiorps.wa.edu.au/wp-content/uploads/2026/04/ANZAC.jpg
END:VEVENT
BEGIN:VEVENT
DTSTART;TZID=Australia/Perth:20260424T140000
DTEND;TZID=Australia/Perth:20260424T145000
DTSTAMP:20260420T155335
CREATED:20260420T064538Z
LAST-MODIFIED:20260420T064538Z
UID:3498-1777039200-1777042200@excelsiorps.wa.edu.au
SUMMARY:P&C Meeting 2pm in EPS Staff Room
DESCRIPTION:
URL:https://excelsiorps.wa.edu.au/calendar/pc-meeting-2pm-in-eps-staff-room-2/
CATEGORIES:P&C Event
ATTACH;FMTTYPE=image/jpeg:https://excelsiorps.wa.edu.au/wp-content/uploads/2025/06/PC-logo.jpg
END:VEVENT
BEGIN:VEVENT
DTSTART;VALUE=DATE:20260427
DTEND;VALUE=DATE:20260428
DTSTAMP:20260420T155335
CREATED:20260420T065815Z
LAST-MODIFIED:20260420T065815Z
UID:3504-1777248000-1777334399@excelsiorps.wa.edu.au
SUMMARY:ANZAC Day Public Holiday
DESCRIPTION:Staff and students DO NOT attend school. School will be closed.
URL:https://excelsiorps.wa.edu.au/calendar/anzac-day-public-holiday/
CATEGORIES:Public Holidays
END:VEVENT
BEGIN:VEVENT
DTSTART;TZID=Australia/Perth:20260428T082000
DTEND;TZID=Australia/Perth:20260508T150000
DTSTAMP:20260420T155335
CREATED:20260420T070242Z
LAST-MODIFIED:20260420T070242Z
UID:3506-1777364400-1778252400@excelsiorps.wa.edu.au
SUMMARY:P&C Mother's Day raffle starts
DESCRIPTION:Tickets for sale before and after school.
URL:https://excelsiorps.wa.edu.au/calendar/pc-mothers-day-raffle-starts/
LOCATION:Excelsior Primary School
CATEGORIES:P&C Event
ATTACH;FMTTYPE=image/jpeg:https://excelsiorps.wa.edu.au/wp-content/uploads/2025/06/PC-logo.jpg
END:VEVENT
BEGIN:VEVENT
DTSTART;TZID=Australia/Perth:20260504T081500
DTEND;TZID=Australia/Perth:20260504T145000
DTSTAMP:20260420T155335
CREATED:20260420T070551Z
LAST-MODIFIED:20260420T070551Z
UID:3508-1777882500-1777906200@excelsiorps.wa.edu.au
SUMMARY:School Photos Day 1
DESCRIPTION:
URL:https://excelsiorps.wa.edu.au/calendar/school-photos-day-1/
LOCATION:Excelsior Primary School
CATEGORIES:School Events
ATTACH;FMTTYPE=image/jpeg:https://excelsiorps.wa.edu.au/wp-content/uploads/2025/01/photo-day.jpg
END:VEVENT
BEGIN:VEVENT
DTSTART;TZID=Australia/Perth:20260504T145000
DTEND;TZID=Australia/Perth:20260504T163000
DTSTAMP:20260420T155335
CREATED:20260420T071417Z
LAST-MODIFIED:20260420T071417Z
UID:3514-1777906200-1777912200@excelsiorps.wa.edu.au
SUMMARY:Minecraft Mondays
DESCRIPTION:Selected students in C Block with Mr Armstrong
URL:https://excelsiorps.wa.edu.au/calendar/minecraft-mondays/
LOCATION:Excelsior Primary School
CATEGORIES:School Events
ATTACH;FMTTYPE=image/jpeg:https://excelsiorps.wa.edu.au/wp-content/uploads/2026/04/Minecraft.jpg
END:VEVENT
BEGIN:VEVENT
DTSTART;TZID=Australia/Perth:20260505T082000
DTEND;TZID=Australia/Perth:20260507T150000
DTSTAMP:20260420T155335
CREATED:20260420T070856Z
LAST-MODIFIED:20260420T070856Z
UID:3512-1777969200-1778166000@excelsiorps.wa.edu.au
SUMMARY:P&C Mother's Day Stall in Library
DESCRIPTION:Before and after school.
URL:https://excelsiorps.wa.edu.au/calendar/pc-mothers-day-stall-in-library/
CATEGORIES:P&C Event
ATTACH;FMTTYPE=image/jpeg:https://excelsiorps.wa.edu.au/wp-content/uploads/2025/06/PC-logo.jpg
END:VEVENT
BEGIN:VEVENT
DTSTART;TZID=Australia/Perth:20260507T084000
DTEND;TZID=Australia/Perth:20260507T145000
DTSTAMP:20260420T155335
CREATED:20260420T070707Z
LAST-MODIFIED:20260420T070707Z
UID:3510-1778143200-1778165400@excelsiorps.wa.edu.au
SUMMARY:School Photos Day 2
DESCRIPTION:
URL:https://excelsiorps.wa.edu.au/calendar/school-photos-day-2/
CATEGORIES:School Events
ATTACH;FMTTYPE=image/jpeg:https://excelsiorps.wa.edu.au/wp-content/uploads/2025/01/photo-day.jpg
END:VEVENT
END:VCALENDAR