BEGIN:VCALENDAR
VERSION:2.0
PRODID:-//Excelsior Primary School - ECPv6.15.13//NONSGML v1.0//EN
CALSCALE:GREGORIAN
METHOD:PUBLISH
X-ORIGINAL-URL:https://excelsiorps.wa.edu.au
X-WR-CALDESC:Events for Excelsior Primary School
REFRESH-INTERVAL;VALUE=DURATION:PT1H
X-Robots-Tag:noindex
X-PUBLISHED-TTL:PT1H
BEGIN:VTIMEZONE
TZID:Australia/Perth
BEGIN:STANDARD
TZOFFSETFROM:+0800
TZOFFSETTO:+0800
TZNAME:AWST
DTSTART:20230101T000000
END:STANDARD
END:VTIMEZONE
BEGIN:VEVENT
DTSTART;TZID=Australia/Perth:20241115T130000
DTEND;TZID=Australia/Perth:20241115T134000
DTSTAMP:20260419T201628
CREATED:20241114T222628Z
LAST-MODIFIED:20241114T222628Z
UID:2937-1731675600-1731678000@excelsiorps.wa.edu.au
SUMMARY:Picnic Lunch 1:00pm
DESCRIPTION:Before the P&C Colour Fun Run families are welcome to come and share a picnic lunch with their child/ren.
URL:https://excelsiorps.wa.edu.au/calendar/picnic-lunch-100pm/
CATEGORIES:P&C Event
END:VEVENT
BEGIN:VEVENT
DTSTART;TZID=Australia/Perth:20241115T135000
DTEND;TZID=Australia/Perth:20241115T145000
DTSTAMP:20260419T201628
CREATED:20241030T062650Z
LAST-MODIFIED:20241030T062650Z
UID:2914-1731678600-1731682200@excelsiorps.wa.edu.au
SUMMARY:P&C Colour Fun Run
DESCRIPTION:
URL:https://excelsiorps.wa.edu.au/calendar/pc-colour-fun-run/
CATEGORIES:P&C Event
END:VEVENT
BEGIN:VEVENT
DTSTART;VALUE=DATE:20241120
DTEND;VALUE=DATE:20241121
DTSTAMP:20260419T201628
CREATED:20241016T012252Z
LAST-MODIFIED:20241114T223325Z
UID:2885-1732060800-1732147199@excelsiorps.wa.edu.au
SUMMARY:Scholastic Book Club orders close
DESCRIPTION:If you would like to place an order for Book Club Issue 8 2024 please ensure your orders are placed by Wednesday 20th November. \nIf your is for Christmas gifts and you don’t want them delivered to your child please let the admin officers know and it will be put aside for collection by an adult.
URL:https://excelsiorps.wa.edu.au/calendar/scholastic-book-club-orders-close/
CATEGORIES:P&C Event
END:VEVENT
END:VCALENDAR